BEGIN:VCALENDAR
VERSION:2.0
PRODID:-//Squarespace Inc/Squarespace 6//v6//EN
BEGIN:VEVENT
UID:5fdadbb035c0500e7fa2b29a@squarespace.com
DTSTAMP:20210122T023250Z
DTSTART:20210312T220000Z
DTEND:20210313T030000Z
SUMMARY:Kinloch Poker Run 2021
GEO:-38.661893;175.921156
LOCATION:Kinloch Community Association\, 20 Mata Place\, Kinloch\, Waikato\
 , 3377\, New Zealand
END:VEVENT
END:VCALENDAR
